BEGIN:VCALENDAR
VERSION:2.0
BEGIN:VEVENT
URL:https://pccs-wed.oztix.com.au/outlet/event/1988ee64-2f85-444f-8acf-119cf0f71fe9
DTSTART:20210317T010000Z
DTEND:20210321T090000Z
SUMMARY:THE PERTH CARAVAN & CAMPING SHOW
DESCRIPTION:Event details: https://pccs-wed.oztix.com.au/outlet/event/1988ee64-2f85-444f-8acf-119cf0f71fe9
LOCATION:Claremont Showground (Claremont, WA)
END:VEVENT
END:VCALENDAR